   BEGIN:VCALENDAR
VERSION:2.0
PRODID:-//Green Lane Primary Academy - ECPv6.15.20//NONSGML v1.0//EN
CALSCALE:GREGORIAN
METHOD:PUBLISH
X-WR-CALNAME:Green Lane Primary Academy
X-ORIGINAL-URL:https://www.greenlanemiddlesbrough.co.uk
X-WR-CALDESC:Events for Green Lane Primary Academy
REFRESH-INTERVAL;VALUE=DURATION:PT1H
X-Robots-Tag:noindex
X-PUBLISHED-TTL:PT1H
BEGIN:VTIMEZONE
TZID:Europe/London
BEGIN:DAYLIGHT
TZOFFSETFROM:+0000
TZOFFSETTO:+0100
TZNAME:BST
DTSTART:20180325T010000
END:DAYLIGHT
BEGIN:STANDARD
TZOFFSETFROM:+0100
TZOFFSETTO:+0000
TZNAME:GMT
DTSTART:20181028T010000
END:STANDARD
BEGIN:DAYLIGHT
TZOFFSETFROM:+0000
TZOFFSETTO:+0100
TZNAME:BST
DTSTART:20190331T010000
END:DAYLIGHT
BEGIN:STANDARD
TZOFFSETFROM:+0100
TZOFFSETTO:+0000
TZNAME:GMT
DTSTART:20191027T010000
END:STANDARD
BEGIN:DAYLIGHT
TZOFFSETFROM:+0000
TZOFFSETTO:+0100
TZNAME:BST
DTSTART:20200329T010000
END:DAYLIGHT
BEGIN:STANDARD
TZOFFSETFROM:+0100
TZOFFSETTO:+0000
TZNAME:GMT
DTSTART:20201025T010000
END:STANDARD
END:VTIMEZONE
BEGIN:VEVENT
DTSTART;TZID=Europe/London:20190711T133000
DTEND;TZID=Europe/London:20190711T150000
DTSTAMP:20260426T022650
CREATED:20190508T131045Z
LAST-MODIFIED:20190710T084933Z
UID:6186-1562851800-1562857200@www.greenlanemiddlesbrough.co.uk
SUMMARY:KS2 Sports Day
DESCRIPTION:
URL:https://www.greenlanemiddlesbrough.co.uk/event/ks2-sports-day/
END:VEVENT
BEGIN:VEVENT
DTSTART;TZID=Europe/London:20190711T153000
DTEND;TZID=Europe/London:20190711T170000
DTSTAMP:20260426T022650
CREATED:20190508T131132Z
LAST-MODIFIED:20190508T131132Z
UID:6188-1562859000-1562864400@www.greenlanemiddlesbrough.co.uk
SUMMARY:Summer Fayre
DESCRIPTION:
URL:https://www.greenlanemiddlesbrough.co.uk/event/summer-fayre/
END:VEVENT
END:VCALENDAR