   BEGIN:VCALENDAR
VERSION:2.0
PRODID:-//Green Lane Primary Academy - ECPv6.15.20//NONSGML v1.0//EN
CALSCALE:GREGORIAN
METHOD:PUBLISH
X-WR-CALNAME:Green Lane Primary Academy
X-ORIGINAL-URL:https://www.greenlanemiddlesbrough.co.uk
X-WR-CALDESC:Events for Green Lane Primary Academy
REFRESH-INTERVAL;VALUE=DURATION:PT1H
X-Robots-Tag:noindex
X-PUBLISHED-TTL:PT1H
BEGIN:VTIMEZONE
TZID:Europe/London
BEGIN:DAYLIGHT
TZOFFSETFROM:+0000
TZOFFSETTO:+0100
TZNAME:BST
DTSTART:20180325T010000
END:DAYLIGHT
BEGIN:STANDARD
TZOFFSETFROM:+0100
TZOFFSETTO:+0000
TZNAME:GMT
DTSTART:20181028T010000
END:STANDARD
BEGIN:DAYLIGHT
TZOFFSETFROM:+0000
TZOFFSETTO:+0100
TZNAME:BST
DTSTART:20190331T010000
END:DAYLIGHT
BEGIN:STANDARD
TZOFFSETFROM:+0100
TZOFFSETTO:+0000
TZNAME:GMT
DTSTART:20191027T010000
END:STANDARD
BEGIN:DAYLIGHT
TZOFFSETFROM:+0000
TZOFFSETTO:+0100
TZNAME:BST
DTSTART:20200329T010000
END:DAYLIGHT
BEGIN:STANDARD
TZOFFSETFROM:+0100
TZOFFSETTO:+0000
TZNAME:GMT
DTSTART:20201025T010000
END:STANDARD
END:VTIMEZONE
BEGIN:VEVENT
DTSTART;VALUE=DATE:20190603
DTEND;VALUE=DATE:20190608
DTSTAMP:20260426T022759
CREATED:20190508T124718Z
LAST-MODIFIED:20190508T124718Z
UID:6157-1559520000-1559951999@www.greenlanemiddlesbrough.co.uk
SUMMARY:Y6 Winmarleigh Residential
DESCRIPTION:
URL:https://www.greenlanemiddlesbrough.co.uk/event/y6-winmarleigh-residential/
END:VEVENT
BEGIN:VEVENT
DTSTART;TZID=Europe/London:20190614T100000
DTEND;TZID=Europe/London:20190614T110000
DTSTAMP:20260426T022759
CREATED:20190508T124907Z
LAST-MODIFIED:20190508T124907Z
UID:6159-1560506400-1560510000@www.greenlanemiddlesbrough.co.uk
SUMMARY:Y1 Punch and Judy Show
DESCRIPTION:
URL:https://www.greenlanemiddlesbrough.co.uk/event/y1-punch-and-judy-show/
END:VEVENT
BEGIN:VEVENT
DTSTART;TZID=Europe/London:20190618T090000
DTEND;TZID=Europe/London:20190618T150000
DTSTAMP:20260426T022759
CREATED:20190508T130424Z
LAST-MODIFIED:20190508T130424Z
UID:6178-1560848400-1560870000@www.greenlanemiddlesbrough.co.uk
SUMMARY:Y6 Crucial Crew Trip
DESCRIPTION:
URL:https://www.greenlanemiddlesbrough.co.uk/event/y6-crucial-crew-trip/
END:VEVENT
BEGIN:VEVENT
DTSTART;TZID=Europe/London:20190618T120000
DTEND;TZID=Europe/London:20190618T150000
DTSTAMP:20260426T022759
CREATED:20190508T125009Z
LAST-MODIFIED:20190508T125009Z
UID:6161-1560859200-1560870000@www.greenlanemiddlesbrough.co.uk
SUMMARY:Nursery PM Trip
DESCRIPTION:
URL:https://www.greenlanemiddlesbrough.co.uk/event/nursery-pm-trip/
END:VEVENT
BEGIN:VEVENT
DTSTART;TZID=Europe/London:20190619T090000
DTEND;TZID=Europe/London:20190619T150000
DTSTAMP:20260426T022759
CREATED:20190508T125059Z
LAST-MODIFIED:20190508T125059Z
UID:6163-1560934800-1560956400@www.greenlanemiddlesbrough.co.uk
SUMMARY:Y4 Trip
DESCRIPTION:
URL:https://www.greenlanemiddlesbrough.co.uk/event/y4-trip/
END:VEVENT
BEGIN:VEVENT
DTSTART;TZID=Europe/London:20190620T090000
DTEND;TZID=Europe/London:20190620T120000
DTSTAMP:20260426T022759
CREATED:20190508T125143Z
LAST-MODIFIED:20190508T125143Z
UID:6165-1561021200-1561032000@www.greenlanemiddlesbrough.co.uk
SUMMARY:Nursery AM Trip
DESCRIPTION:
URL:https://www.greenlanemiddlesbrough.co.uk/event/nursery-am-trip/
END:VEVENT
BEGIN:VEVENT
DTSTART;VALUE=DATE:20190626
DTEND;VALUE=DATE:20190629
DTSTAMP:20260426T022759
CREATED:20190508T130822Z
LAST-MODIFIED:20190508T130822Z
UID:6180-1561507200-1561766399@www.greenlanemiddlesbrough.co.uk
SUMMARY:Y5 Edinburgh Residential
DESCRIPTION:
URL:https://www.greenlanemiddlesbrough.co.uk/event/y5-edinburgh-residential/
END:VEVENT
BEGIN:VEVENT
DTSTART;TZID=Europe/London:20190626T140000
DTEND;TZID=Europe/London:20190626T150000
DTSTAMP:20260426T022759
CREATED:20190508T125333Z
LAST-MODIFIED:20190508T125333Z
UID:6168-1561557600-1561561200@www.greenlanemiddlesbrough.co.uk
SUMMARY:Reception Sports Day
DESCRIPTION:
URL:https://www.greenlanemiddlesbrough.co.uk/event/reception-sports-day/
END:VEVENT
END:VCALENDAR