   BEGIN:VCALENDAR
VERSION:2.0
PRODID:-//Green Lane Primary Academy - ECPv6.15.20//NONSGML v1.0//EN
CALSCALE:GREGORIAN
METHOD:PUBLISH
X-WR-CALNAME:Green Lane Primary Academy
X-ORIGINAL-URL:https://www.greenlanemiddlesbrough.co.uk
X-WR-CALDESC:Events for Green Lane Primary Academy
REFRESH-INTERVAL;VALUE=DURATION:PT1H
X-Robots-Tag:noindex
X-PUBLISHED-TTL:PT1H
BEGIN:VTIMEZONE
TZID:Europe/London
BEGIN:DAYLIGHT
TZOFFSETFROM:+0000
TZOFFSETTO:+0100
TZNAME:BST
DTSTART:20180325T010000
END:DAYLIGHT
BEGIN:STANDARD
TZOFFSETFROM:+0100
TZOFFSETTO:+0000
TZNAME:GMT
DTSTART:20181028T010000
END:STANDARD
BEGIN:DAYLIGHT
TZOFFSETFROM:+0000
TZOFFSETTO:+0100
TZNAME:BST
DTSTART:20190331T010000
END:DAYLIGHT
BEGIN:STANDARD
TZOFFSETFROM:+0100
TZOFFSETTO:+0000
TZNAME:GMT
DTSTART:20191027T010000
END:STANDARD
BEGIN:DAYLIGHT
TZOFFSETFROM:+0000
TZOFFSETTO:+0100
TZNAME:BST
DTSTART:20200329T010000
END:DAYLIGHT
BEGIN:STANDARD
TZOFFSETFROM:+0100
TZOFFSETTO:+0000
TZNAME:GMT
DTSTART:20201025T010000
END:STANDARD
END:VTIMEZONE
BEGIN:VEVENT
DTSTART;TZID=Europe/London:20191014T090000
DTEND;TZID=Europe/London:20191014T150000
DTSTAMP:20260425T211257
CREATED:20191011T141242Z
LAST-MODIFIED:20191011T141242Z
UID:6266-1571043600-1571065200@www.greenlanemiddlesbrough.co.uk
SUMMARY:Whole School Photographs
DESCRIPTION:
URL:https://www.greenlanemiddlesbrough.co.uk/event/whole-school-photographs/
END:VEVENT
BEGIN:VEVENT
DTSTART;TZID=Europe/London:20191022T153000
DTEND;TZID=Europe/London:20191022T180000
DTSTAMP:20260425T211257
CREATED:20191011T141036Z
LAST-MODIFIED:20191011T141036Z
UID:6259-1571758200-1571767200@www.greenlanemiddlesbrough.co.uk
SUMMARY:Parents Evening
DESCRIPTION:
URL:https://www.greenlanemiddlesbrough.co.uk/event/parents-evening-3/
END:VEVENT
BEGIN:VEVENT
DTSTART;TZID=Europe/London:20191023T153000
DTEND;TZID=Europe/London:20191023T180000
DTSTAMP:20260425T211257
CREATED:20191011T141206Z
LAST-MODIFIED:20191011T141206Z
UID:6264-1571844600-1571853600@www.greenlanemiddlesbrough.co.uk
SUMMARY:Parents Evening
DESCRIPTION:
URL:https://www.greenlanemiddlesbrough.co.uk/event/parents-evening-4/
END:VEVENT
END:VCALENDAR